BEGIN:VCALENDAR
VERSION:2.0
PRODID:-//Katholische Kirchengemeinde Heilig Geist Steinheim am Albuch - ECPv6.15.20//NONSGML v1.0//EN
CALSCALE:GREGORIAN
METHOD:PUBLISH
X-ORIGINAL-URL:https://heilig-geist-steinheim-albuch.de
X-WR-CALDESC:Veranstaltungen für Katholische Kirchengemeinde Heilig Geist Steinheim am Albuch
REFRESH-INTERVAL;VALUE=DURATION:PT1H
X-Robots-Tag:noindex
X-PUBLISHED-TTL:PT1H
BEGIN:VTIMEZONE
TZID:Europe/Berlin
BEGIN:DAYLIGHT
TZOFFSETFROM:+0100
TZOFFSETTO:+0200
TZNAME:CEST
DTSTART:20250330T010000
END:DAYLIGHT
BEGIN:STANDARD
TZOFFSETFROM:+0200
TZOFFSETTO:+0100
TZNAME:CET
DTSTART:20251026T010000
END:STANDARD
BEGIN:DAYLIGHT
TZOFFSETFROM:+0100
TZOFFSETTO:+0200
TZNAME:CEST
DTSTART:20260329T010000
END:DAYLIGHT
BEGIN:STANDARD
TZOFFSETFROM:+0200
TZOFFSETTO:+0100
TZNAME:CET
DTSTART:20261025T010000
END:STANDARD
BEGIN:DAYLIGHT
TZOFFSETFROM:+0100
TZOFFSETTO:+0200
TZNAME:CEST
DTSTART:20270328T010000
END:DAYLIGHT
BEGIN:STANDARD
TZOFFSETFROM:+0200
TZOFFSETTO:+0100
TZNAME:CET
DTSTART:20271031T010000
END:STANDARD
END:VTIMEZONE
BEGIN:VEVENT
DTSTART;TZID=Europe/Berlin:20260321T170000
DTEND;TZID=Europe/Berlin:20260321T180000
DTSTAMP:20260420T103232
CREATED:20260119T083917Z
LAST-MODIFIED:20260119T083917Z
UID:12054-1774112400-1774116000@heilig-geist-steinheim-albuch.de
SUMMARY:Hl. Messe
DESCRIPTION:
URL:https://heilig-geist-steinheim-albuch.de/termin/hl-messe-626/
LOCATION:Erlöserkirche\, Söhnstetten
CATEGORIES:Eucharistie,Sonntagvorabendmesse
END:VEVENT
END:VCALENDAR